BEGIN:VCALENDAR
VERSION:2.0
PRODID:-//eventon.com NONSGML v1.0//EN
CALSCALE:GREGORIAN
METHOD:PUBLISH
BEGIN:VEVENT
UID:69e73fa1b6002
DTSTAMP:20260421T091305Z
DTSTART:20250729T173000Z
DTEND:20250729T190000Z
LOCATION:Sporthalle Redingskamp 25\,  22523 Hamburg
SUMMARY:Ringen
DESCRIPTION:Ringen ist eine faszinierende\,  dynamische und vielseitige Kam
 pf- und Kraftsportart\,  bei der die Athleten ohne feste Griffe oder Halteg
 riffe kämpfen. Ringen ist eine der ältesten olympischen Sportarten und ha
 t eine lange Tradition. Grundsätzlich ist Ringen für jeden zugänglich: o
 b männlich oder weiblich\,  als junger Nachwuchs oder als Senior.\nhttps:/
 /www.activecitysummer.de/events/ringen-2/
URL:https://www.activecitysummer.de/events/ringen-2/
END:VEVENT
END:VCALENDAR