BEGIN:VCALENDAR
VERSION:2.0
PRODID:-//eventon.com NONSGML v1.0//EN
CALSCALE:GREGORIAN
METHOD:PUBLISH
BEGIN:VEVENT
UID:69e9d9d698ce4
DTSTAMP:20260423T083534Z
DTSTART:20250711T101500Z
DTEND:20250711T110500Z
LOCATION:sportspaß e.V. Center Billstedt Möllner Landstraße 8\,  22111 Hamburg
SUMMARY:NIA
DESCRIPTION:NIA vermittelt dir eine bessere Haltung und gute Balance sowie 
 insbesondere Freude an der Bewegung. NIA vereint Elemente aus Tanz\,  Yoga\
 ,  Tai Chi und traditionellen Kampfkünsten zu einem einfachen\,  gelenksch
 onenden Ganzkörpertraining mit leicht erlernbaren Schrittabfolgen. Die Spo
 ntanität der modernen und ethnischen Tänze charakterisiert diesen Kurs. N
 ia ist auch für Einsteiger[..]\nhttps://www.activecitysummer.de/events/nia
 -3/var/ri-1.l-L1
URL:https://www.activecitysummer.de/events/nia-3/var/ri-1.l-L1
END:VEVENT
END:VCALENDAR