BEGIN:VCALENDAR
VERSION:2.0
PRODID:-//eventon.com NONSGML v1.0//EN
CALSCALE:GREGORIAN
METHOD:PUBLISH
BEGIN:VEVENT
UID:69e9e156dd375
DTSTAMP:20260423T090734Z
DTSTART:20250714T104500Z
DTEND:20250714T113500Z
LOCATION:sportspaß e.V. Center Berliner Tor Westphalensweg 11\,  20099 Hamburg
SUMMARY:Physio Fitness
DESCRIPTION:Deine Gesundheit ist dein wichtigstes Gut und die Voraussetzung
  für zahlreiche Alltagsanforderungen. Physio Fitness aktiviert deine gesun
 dheitsförderlichen Ressourcen. Unter der fokussierten Berücksichtigung in
 dividueller orthopädischer oder kardiovaskulärer Einschränkungen trainie
 rst du die allgemeine aerobe Ausdauer\,  steigerst deine Muskelkraft und ve
 rbesserst Beweglichkeit und Koordination. Entlaste deine Gelenke durch eine
  kräftige Muskulatur und erhalte[..]\nhttps://www.activecitysummer.de/even
 ts/physio-fitness-5/var/ri-1.l-L1
URL:https://www.activecitysummer.de/events/physio-fitness-5/var/ri-1.l-L1
END:VEVENT
END:VCALENDAR