BEGIN:VCALENDAR
VERSION:2.0
PRODID:-//eventon.com NONSGML v1.0//EN
CALSCALE:GREGORIAN
METHOD:PUBLISH
BEGIN:VEVENT
UID:69e4cfb52714b
DTSTAMP:20260419T125101Z
DTSTART:20250710T084500Z
DTEND:20250710T093500Z
LOCATION:sportspaß e.V. Center Berliner Tor Westphalensweg 11\,  20099 Hamburg
SUMMARY:ZUMBA® Fitness
DESCRIPTION:ZUMBA® Fitness ist der weltweit bekannte und sehr beliebte Tan
 z-Fitness-Trend aus den USA! Er beinhaltet Elemente aus verschiedenen Tanzs
 tilen zu heißer lateinamerikanischer Musik. Die rhythmischen Bewegungen zu
  Salsa\,  Merengue\,  Calypso oder Flamenco machen Spaß und sind für jede
 n einfach zu erlernen. Durch Variationen sind Einsteiger sowie Fortgeschrit
 tene in den Kursen[..]\nhttps://www.activecitysummer.de/events/zumba-fitnes
 s-15/var/ri-1.l-L1
URL:https://www.activecitysummer.de/events/zumba-fitness-15/var/ri-1.l-L1
END:VEVENT
END:VCALENDAR