BEGIN:VCALENDAR
VERSION:2.0
PRODID:-//eventon.com NONSGML v1.0//EN
CALSCALE:GREGORIAN
METHOD:PUBLISH
BEGIN:VEVENT
UID:69e9d6060deb9
DTSTAMP:20260423T081918Z
DTSTART:20250804T173000Z
DTEND:20250804T175100Z
LOCATION:Friedrichberger Park
SUMMARY:„21-Minuten Bewegung mit Mini-Expander“ powered by AOK
DESCRIPTION:Die Weltgesundheitsorganisation WHO empfiehlt allen Menschen\, 
  sich wöchentlich mindestens 150 Minuten moderat bis intensiv zu bewegen\,
   also täglich etwa 21 Minuten. Das unterstützt die Gesundheit und das Wo
 hlbefinden. Unser Angebot „21-Minuten Bewegung mit Expander“ zeigt Ihne
 n\,  wie sie mit einfachen Übungen diese Empfehlung umsetzen können. Zum 
 Einsatz kommt dabei ein[..]\nhttps://www.activecitysummer.de/events/21-minu
 ten-bewegung-mit-mini-expander-powered-by-aok-2/
URL:https://www.activecitysummer.de/events/21-minuten-bewegung-mit-mini-expander-powered-by-aok-2/
END:VEVENT
END:VCALENDAR