BEGIN:VCALENDAR
VERSION:2.0
PRODID:-//eventon.com NONSGML v1.0//EN
CALSCALE:GREGORIAN
METHOD:PUBLISH
BEGIN:VEVENT
UID:69e89060e75b0
DTSTAMP:20260422T090952Z
DTSTART:20250801T143000Z
DTEND:20250801T145100Z
LOCATION:Friedrichberger Park
SUMMARY:„21-Minuten Bewegung mit Mini-Expander“ powered by AOK
DESCRIPTION:Die Weltgesundheitsorganisation WHO empfiehlt allen Menschen\, 
  sich wöchentlich mindestens 150 Minuten moderat bis intensiv zu bewegen\,
   also täglich etwa 21 Minuten. Das unterstützt die Gesundheit und das Wo
 hlbefinden. Unser Angebot „21-Minuten Bewegung“ zeigt Ihnen\,  wie Sie 
 mit einfachen Übungen diese Empfehlung umsetzen können. Dazu braucht es k
 eine Hilfsmittel. Lassen Sie[..]\nhttps://www.activecitysummer.de/events/21
 -minuten-bewegung-mit-mini-expander-powered-by-aok/
URL:https://www.activecitysummer.de/events/21-minuten-bewegung-mit-mini-expander-powered-by-aok/
END:VEVENT
END:VCALENDAR