BEGIN:VCALENDAR
VERSION:2.0
PRODID:-//eventon.com NONSGML v1.0//EN
CALSCALE:GREGORIAN
METHOD:PUBLISH
BEGIN:VEVENT
UID:69e75cee186d7
DTSTAMP:20260421T111806Z
DTSTART:20250818T150000Z
DTEND:20250818T163000Z
LOCATION:Meiendorfer Sportverein\,  Halle Deepenhorn 5\,  Haus 1 Deepenhorn 5\,  22145 Hamburg
SUMMARY:Boxen für Kinder und Jugendliche
DESCRIPTION:Alter: 10- 15 Jahre. Ein fairer Ausdauer-Kraft-Sport für Kinde
 r und Jugendliche! Power dich aus und erlerne Technik und Regeln. Du traini
 erst mit einem zertifizierten Trainer und förderst gleichzeitig deine Moto
 rik und Kraft. Boxen steigert zudem die Fairness untereinander und das Selb
 stbewusstsein. Kommt vorbei und probiert es aus! Kursort: Schulsporthalle d
 er[..]\nhttps://www.activecitysummer.de/events/boxen-fuer-kinder-und-jugend
 liche/
URL:https://www.activecitysummer.de/events/boxen-fuer-kinder-und-jugendliche/
END:VEVENT
END:VCALENDAR