BEGIN:VCALENDAR
VERSION:2.0
PRODID:-//eventon.com NONSGML v1.0//EN
CALSCALE:GREGORIAN
METHOD:PUBLISH
BEGIN:VEVENT
UID:69e4cf030e51b
DTSTAMP:20260419T124803Z
DTSTART:20250911T173000Z
DTEND:20250911T182000Z
LOCATION:sportspass e.V.\,  Center Harburg Harburger Ring 10\,  21073 Hamburg
SUMMARY:Fatburner
DESCRIPTION:Durch intensive Ausdauerelemente und Kräftigung der großen Mu
 skelgruppen wird das Herz-Kreislauf-System angeregt. Bei diesem Kursformat 
 stehen die Fettreduktion\,  Körperstraffung und der Muskelaufbau im Vorder
 grund.\nhttps://www.activecitysummer.de/events/fatburner-15/var/ri-1.l-L1
URL:https://www.activecitysummer.de/events/fatburner-15/var/ri-1.l-L1
END:VEVENT
END:VCALENDAR