BEGIN:VCALENDAR
VERSION:2.0
PRODID:-//eventon.com NONSGML v1.0//EN
CALSCALE:GREGORIAN
METHOD:PUBLISH
BEGIN:VEVENT
UID:69e75c6849cd9
DTSTAMP:20260421T111552Z
DTSTART:20250728T080000Z
DTEND:20250728T085000Z
LOCATION:sportspaß e.V. Center Berliner Tor Westphalensweg 11\,  20099 Hamburg
SUMMARY:Mama Fitness
DESCRIPTION:Du würdest gerne mal wieder ein bisschen Sport treiben\,  um i
 n deine alte Form zurückzufinden und etwas für dich zu tun? Gemeinsam mit
  anderen Mamas wirst du wieder aktiv\,  während dein Kind in deiner Nähe 
 bleibt und in einem sicheren Rahmen spielerisch erste soziale Kontakte knü
 pft. Mama Fitness ist nach[..]\nhttps://www.activecitysummer.de/events/mama
 -fitness-2/
URL:https://www.activecitysummer.de/events/mama-fitness-2/
END:VEVENT
END:VCALENDAR