BEGIN:VCALENDAR
VERSION:2.0
PRODID:-//eventon.com NONSGML v1.0//EN
CALSCALE:GREGORIAN
METHOD:PUBLISH
BEGIN:VEVENT
UID:69e4c46c2466d
DTSTAMP:20260419T120252Z
DTSTART:20250803T140000Z
DTEND:20250803T160000Z
LOCATION:CACO Carl-Cohn-Straße 2\,  22303 Hamburg
SUMMARY:🏀 Open Gym – 2 Stunden Basketball-Action\,  Spaß & Gemeinschaft! 🙌
DESCRIPTION:Open Gym – 2 Stunden Basketball-Action\,  Spaß &amp; Gemeins
 chaft! Du hast Lust\,  frei und ungezwungen Basketball zu spielen? Dann ist
  unser Open Gym genau das Richtige für dich! Hier geht es nicht um Leistun
 g oder Druck\,  sondern um Spaß\,  Bewegung und das Miteinander auf dem Co
 urt. Jeden Tag von 16:00 bis[..]\nhttps://www.activecitysummer.de/events/%
 f0%9f%8f%80-open-gym-2-stunden-basketball-action-spass-gemeinschaft-%f0%9f%
 99%8c/var/ri-1.l-L1
URL:https://www.activecitysummer.de/events/%f0%9f%8f%80-open-gym-2-stunden-basketball-action-spass-gemeinschaft-%f0%9f%99%8c/var/ri-1.l-L1
END:VEVENT
END:VCALENDAR