BEGIN:VCALENDAR
VERSION:2.0
PRODID:-//eventon.com NONSGML v1.0//EN
CALSCALE:GREGORIAN
METHOD:PUBLISH
BEGIN:VEVENT
UID:69e75dfebc2ac
DTSTAMP:20260421T112238Z
DTSTART:20250911T170000Z
DTEND:20250911T183000Z
LOCATION:Lise-Meitner-Gymnasium (OberstufengebÃ¤ude/Mensa) Knabeweg 3\,  22549 Hamburg
SUMMARY:Wir lernen Schach
DESCRIPTION:Die Schachvereinigung Blankenese bietet im September einen Einf
 Ã¼hrungskurs fÃ¼r AnfÃ¤nger an. Der Kurs richtet sich vorwiegend an Erwachs
 ene ohne Vorkenntnisse. NÃ¤here Informationen findest du in unserem Flyer â
 €žWir lernen Schachâ€œ. Als Teilnehmer beim Active City Summer kannst du am
  ersten Abend\,  also am 11. September\,  kostenfrei teilnehmen und danach 
 entscheiden\, [..]\nhttps://www.activecitysummer.de/events/wir-lernen-schac
 h/
URL:https://www.activecitysummer.de/events/wir-lernen-schach/
END:VEVENT
END:VCALENDAR