BEGIN:VCALENDAR
VERSION:2.0
PRODID:-//eventon.com NONSGML v1.0//EN
CALSCALE:GREGORIAN
METHOD:PUBLISH
BEGIN:VEVENT
UID:69e73fe55be93
DTSTAMP:20260421T091413Z
DTSTART:20250903T153000Z
DTEND:20250903T163000Z
LOCATION:Aula der Schule Nydamer Weg 44 Nydamer Weg 44\,  22145 Hamburg
SUMMARY:Just Dance for Kids von 9-12 Jahren
DESCRIPTION:Spielerisch und kindgerecht lernen die Kleinsten erste Schritte
  und Tanzbewegungen.\nhttps://www.activecitysummer.de/events/just-dance-for
 -kids-von-9-12-jahren/
URL:https://www.activecitysummer.de/events/just-dance-for-kids-von-9-12-jahren/
END:VEVENT
END:VCALENDAR