BEGIN:VCALENDAR
VERSION:2.0
PRODID:-//eventon.com NONSGML v1.0//EN
CALSCALE:GREGORIAN
METHOD:PUBLISH
BEGIN:VEVENT
UID:69e4d065ce561
DTSTAMP:20260419T125357Z
DTSTART:20250911T160000Z
DTEND:20250911T180000Z
LOCATION:Aula der Grundschule Rhiemsweg 61 Rhiemsweg 61\,  22111 Hamburg
SUMMARY:Latin Dance for Girls [bis ca. 28 Jahre] - Solo-Formation
DESCRIPTION:Entdecke die faszinierende Welt des Tanzes bei den „Latin Gir
 ls“ mit lateinamerikanischem Flair! Jeden Donnerstag von 18 bis 20 Uhr im
  Rhiemsweg 61 laden wir dich ein\,  Teil unseres dynamischen Tanzteams zu w
 erden und mit uns eine unvergessliche Zeit voller Spaß\,  Eleganz und sinn
 lichen Bewegungen zu erleben. Als Teil unseres Teams[..]\nhttps://www.acti
 vecitysummer.de/events/latin-dance-for-girls-bis-ca-28-jahre-solo-formation
 /var/ri-1.l-L1
URL:https://www.activecitysummer.de/events/latin-dance-for-girls-bis-ca-28-jahre-solo-formation/var/ri-1.l-L1
END:VEVENT
END:VCALENDAR