BEGIN:VCALENDAR
VERSION:2.0
PRODID:-//eventon.com NONSGML v1.0//EN
CALSCALE:GREGORIAN
METHOD:PUBLISH
BEGIN:VEVENT
UID:69e75caf3d348
DTSTAMP:20260421T111703Z
DTSTART:20250906T080000Z
DTEND:20250906T100000Z
LOCATION:LOLA Kulturzentrum Lohbrügger Landstraße 8\,  21031 Hamburg
SUMMARY:NIA WORKSHOP
DESCRIPTION:Wer NIA kennen lernen möchte\,  ist hier genau richtig. NIA is
 t ein ganzheitliches Bewegungskonzept und basiert auf Freude an der Bewegun
 g. Ob Kraftvoll wie Taekwondo\,  vielseitig wie der Tanz oder zentriert wie
  Yoga: in NIA ist alles dabei! Bewusst in Bewegung zu sein\,  mit Rücksich
 t auf Dein Wohlbefinden\,  entwickelt sich[..]\nhttps://www.activecitysumme
 r.de/events/nia-workshop/
URL:https://www.activecitysummer.de/events/nia-workshop/
END:VEVENT
END:VCALENDAR